BEGIN:VCALENDAR
VERSION:2.0
PRODID:-//Library Market//iCal Export//EN
BEGIN:VEVENT
SUMMARY:Family Time
UID:6764
DTSTAMP:20260426T025400Z
DTSTART:20260313T153000Z
DTEND:20260313T160000Z
LOCATION:Brookfield Public Library, 1900 N. Calhoun Rd., Brookfield, WI 53
 005, United States
ROOM: Community Room
DESCRIPTION:
URL:https://brookfieldpl.librarycalendar.com/event/family-time-6764
END:VEVENT
END:VCALENDAR
